BEGIN:VCALENDAR
VERSION:2.0
PRODID:-//Kris 4 Utah - ECPv5.14.0.4//NONSGML v1.0//EN
CALSCALE:GREGORIAN
METHOD:PUBLISH
X-WR-CALNAME:Kris 4 Utah
X-ORIGINAL-URL:https://www.kris4utah.com
X-WR-CALDESC:Events for Kris 4 Utah
REFRESH-INTERVAL;VALUE=DURATION:PT1H
X-Robots-Tag:noindex
X-PUBLISHED-TTL:PT1H
BEGIN:VTIMEZONE
TZID:America/Denver
BEGIN:DAYLIGHT
TZOFFSETFROM:-0700
TZOFFSETTO:-0600
TZNAME:MDT
DTSTART:20240310T090000
END:DAYLIGHT
BEGIN:STANDARD
TZOFFSETFROM:-0600
TZOFFSETTO:-0700
TZNAME:MST
DTSTART:20241103T080000
END:STANDARD
END:VTIMEZONE
BEGIN:VEVENT
DTSTART;TZID=America/Denver:20241022T183000
DTEND;TZID=America/Denver:20241022T200000
DTSTAMP:20260421T113222
CREATED:20241002T053923Z
LAST-MODIFIED:20241002T053923Z
UID:2141-1729621800-1729627200@www.kris4utah.com
SUMMARY:Utah House of Representatives\, District 4 - Candidate Forum
DESCRIPTION:
URL:https://www.kris4utah.com/event/utah-house-district-4-candidate-forum/
LOCATION:Morgan Middle School Band Room\, 115 E Young St\, Morgan\, Utah\, 84050\, United States
CATEGORIES:Community
ATTACH;FMTTYPE=image/png:https://www.kris4utah.com/wp-content/uploads/2024/10/Morgan-Candidate-Forum.png
END:VEVENT
END:VCALENDAR